Workbook

Sheet Calendrier hiver
A1: Calendrier hiver 2026-2027 — Entraînements club, SSS et courses Dauphiné
A2: Courses : d'après le PDF « CALENDRIER Dauphiné 26-27 » (version du 05/10/2026). Entraînements : SSS mar. + jeu. après-midi ; Compet mer. après-midi ; Loisir + Compet sam. matin. Colonne « Entraînement adulte » à compléter. Jour et date grisés = vacances scolaires. Les « ? » sont repris tels quels du calendrier.
A4: Jour | B4: Date | C4: Entraînement | D4: Entraînement adulte | E4: Régional | F4: National FOND | G4: National Biathlon | H4: Remarques
A5: Mardi | B5: 46357 | C5: SSS
A6: Mercredi | B6: 46358 | C6: Compet
A7: Jeudi | B7: 46359 | C7: SSS
A8: Vendredi | B8: 46360
A9: Samedi | B9: 46361 | C9: Loisir + Compet | G9: SNT 1 Bessans
A10: Dimanche | B10: 46362 | E10: CD CL Indiv. Alpe d'Huez U15+ (SNO) | G10: SNT 1 Bessans
A11: Lundi | B11: 46363
A12: Mardi | B12: 46364 | C12: SSS
A13: Mercredi | B13: 46365 | C13: Compet
A14: Jeudi | B14: 46366 | C14: SSS
A15: Vendredi | B15: 46367
A16: Samedi | B16: 46368 | C16: Loisir + Compet | F16: SNT 2 Autrans
A17: Dimanche | B17: 46369 | F17: SNT 2 Autrans
A18: Lundi | B18: 46370
A19: Mardi | B19: 46371 | C19: SSS
A20: Mercredi | B20: 46372 | C20: Compet
A21: Jeudi | B21: 46373 | C21: SSS
A22: Vendredi | B22: 46374
A23: Samedi | B23: 46375 | C23: Loisir + Compet | D23: 14h-16h | G23: SNT 2 Les Tuffes
A24: Dimanche | B24: 46376 | E24: CD Fond SK Méaudre – Team Sprint U11/13/16+, U15 (KO montée/descente, qualif 3 tours) | G24: SNT 2 Les Tuffes
A25: Lundi | B25: 46377
A26: Mardi | B26: 46378 | C26: SSS
A27: Mercredi | B27: 46379 | C27: Compet
A28: Jeudi | B28: 46380 | C28: SSS
A29: Vendredi | B29: 46381
A30: Samedi | B30: 46382 | C30: Loisir + Compet
A31: Dimanche | B31: 46383
A32: Lundi | B32: 46384
A33: Mardi | B33: 46385 | C33: SSS | F33: SNT 3 Les Glières
A34: Mercredi | B34: 46386 | C34: Compet | F34: SNT 3 Les Glières
A35: Jeudi | B35: 46387 | C35: SSS
A36: Vendredi | B36: 46388
A37: Samedi | B37: 46389 | C37: Loisir + Compet
A38: Dimanche | B38: 46390 | E38: CD Biathlon 1 Relais U9-U13 / U15-U17+ 22LR (VSF)
A39: Lundi | B39: 46391
A40: Mardi | B40: 46392 | C40: SSS
A41: Mercredi | B41: 46393 | C41: Compet
A42: Jeudi | B42: 46394 | C42: SSS
A43: Vendredi | B43: 46395
A44: Samedi | B44: 46396 | C44: Loisir + Compet | D44: 14h-16h | G44: SNT 3 Les Saisies
A45: Dimanche | B45: 46397 | E45: Indiv Sk CSN VdL (atelier MS ?) | G45: SNT 3 Les Saisies
A46: Lundi | B46: 46398
A47: Mardi | B47: 46399 | C47: SSS
A48: Mercredi | B48: 46400 | C48: Compet
A49: Jeudi | B49: 46401 | C49: SSS
A50: Vendredi | B50: 46402
A51: Samedi | B51: 46403 | C51: Loisir + Compet | D51: 14h-16h
A52: Dimanche | B52: 46404 | E52: CD Indiv Cl U11/Sen – Chamrousse
A53: Lundi | B53: 46405
A54: Mardi | B54: 46406 | C54: SSS
A55: Mercredi | B55: 46407 | C55: Compet
A56: Jeudi | B56: 46408 | C56: SSS
A57: Vendredi | B57: 46409
A58: Samedi | B58: 46410 | C58: Loisir + Compet | D58: 14h-16h | G58: SNT 4 Les Contamines
A59: Dimanche | B59: 46411 | E59: Indiv Cl Chamrousse U11/Sen | G59: SNT 4 Les Contamines
A60: Lundi | B60: 46412
A61: Mardi | B61: 46413 | C61: SSS
A62: Mercredi | B62: 46414 | C62: Compet
A63: Jeudi | B63: 46415 | C63: SSS
A64: Vendredi | B64: 46416
A65: Samedi | B65: 46417 | C65: Loisir + Compet | D65: 14h-16h | F65: SNT 4 Névache | G65: Aura Biathlon CSN
A66: Dimanche | B66: 46418 | E66: Foulée Blanche (prévue le 31/01) | F66: SNT 4 Névache
A67: Lundi | B67: 46419
A68: Mardi | B68: 46420 | C68: SSS
A69: Mercredi | B69: 46421 | C69: Compet
A70: Jeudi | B70: 46422 | C70: SSS
A71: Vendredi | B71: 46423 | G71: SNT 5 La Féclaz
A72: Samedi | B72: 46424 | C72: Loisir + Compet | D72: 14h-16h | E72: TransVercors | F72: Nationale U15 Chamrousse | G72: SNT 5 La Féclaz
A73: Dimanche | B73: 46425 | F73: Nationale U15 Chamrousse
A74: Lundi | B74: 46426
A75: Mardi | B75: 46427 | C75: SSS
A76: Mercredi | B76: 46428 | C76: Compet
A77: Jeudi | B77: 46429 | C77: SSS
A78: Vendredi | B78: 46430
A79: Samedi | B79: 46431 | C79: Loisir + Compet
A80: Dimanche | B80: 46432 | E80: CD Fond Indiv Sk MS – 7 Laux U13+
A81: Lundi | B81: 46433
A82: Mardi | B82: 46434 | C82: SSS
A83: Mercredi | B83: 46435 | C83: Compet | E83: Chp Team Sprint Nocturne Autrans
A84: Jeudi | B84: 46436 | C84: SSS
A85: Vendredi | B85: 46437
A86: Samedi | B86: 46438 | C86: Loisir + Compet | F86: SNT 5 Les Tuffes
A87: Dimanche | B87: 46439 | E87: CD Biathlon 2 GUC U11+ +22LR – Col de Porte | F87: SNT 5 Les Tuffes
A88: Lundi | B88: 46440
A89: Mardi | B89: 46441 | C89: SSS
A90: Mercredi | B90: 46442 | C90: Compet
A91: Jeudi | B91: 46443 | C91: SSS
A92: Vendredi | B92: 46444
A93: Samedi | B93: 46445 | C93: Loisir + Compet | G93: SNT 6 Les Tuffes
A94: Dimanche | B94: 46446 | E94: CD Fond MS Cl SMA ? | G94: SNT 6 Les Tuffes
A95: Lundi | B95: 46447
A96: Mardi | B96: 46448 | C96: SSS
A97: Mercredi | B97: 46449 | C97: Compet
A98: Jeudi | B98: 46450 | C98: SSS
A99: Vendredi | B99: 46451
A100: Samedi | B100: 46452 | C100: Loisir + Compet | F100: SNT 6 Les Glières | G100: U15 Biathlon Col de Porte
A101: Dimanche | B101: 46453 | F101: SNT 6 Les Glières | G101: U15 Biathlon Col de Porte
...

Sheet Récap
A1: Récapitulatif par mois
A3: Mois | B3: Début | C3: Fin | D3: SSS | E3: Compet | F3: Loisir + Compet | G3: Adulte | H3: Total séances | I3: Jours avec course
A4: Décembre | B4: 46357 | C4: 46387 | D4: =COUNTIFS('Calendrier hiver'!$B$5:$B$125,">="&B4,'Calendrier hiver'!$B$5:$B$125,"<="&C4,'Calendrier hiver'!$C$5:$C$125,"SSS") -> 10 | E4: =COUNTIFS('Calendrier hiver'!$B$5:$B$125,">="&B4,'Calendrier hiver'!$B$5:$B$125,"<="&C4,'Calendrier hiver'!$C$5:$C$125,"Compet") -> 5 | F4: =COUNTIFS('Calendrier hiver'!$B$5:$B$125,">="&B4,'Calendrier hiver'!$B$5:$B$125,"<="&C4,'Calendrier hiver'!$C$5:$C$125,"Loisir + Compet") -> 4 | G4: =COUNTIFS('Calendrier hiver'!$B$5:$B$125,">="&B4,'Calendrier hiver'!$B$5:$B$125,"<="&C4,'Calendrier hiver'!$D$5:$D$125,"<>") -> 1 | H4: =SUM(D4:G4) -> 20 | I4: =SUMPRODUCT(('Calendrier hiver'!$B$5:$B$125>=B4)*('Calendrier hiver'!$B$5:$B$125<=C4)*((('Calendrier hiver'!$E$5:$E$125<>"")+('Calendrier hiver'!$F$5:$F$125<>"")+('Calendrier hiver'!$G$5:$G$125<>""))>0)) -> 8
A5: Janvier | B5: 46388 | C5: 46418 | D5: =COUNTIFS('Calendrier hiver'!$B$5:$B$125,">="&B5,'Calendrier hiver'!$B$5:$B$125,"<="&C5,'Calendrier hiver'!$C$5:$C$125,"SSS") -> 8 | E5: =COUNTIFS('Calendrier hiver'!$B$5:$B$125,">="&B5,'Calendrier hiver'!$B$5:$B$125,"<="&C5,'Calendrier hiver'!$C$5:$C$125,"Compet") -> 4 | F5: =COUNTIFS('Calendrier hiver'!$B$5:$B$125,">="&B5,'Calendrier hiver'!$B$5:$B$125,"<="&C5,'Calendrier hiver'!$C$5:$C$125,"Loisir + Compet") -> 5 | G5: =COUNTIFS('Calendrier hiver'!$B$5:$B$125,">="&B5,'Calendrier hiver'!$B$5:$B$125,"<="&C5,'Calendrier hiver'!$D$5:$D$125,"<>") -> 4 | H5: =SUM(D5:G5) -> 21 | I5: =SUMPRODUCT(('Calendrier hiver'!$B$5:$B$125>=B5)*('Calendrier hiver'!$B$5:$B$125<=C5)*((('Calendrier hiver'!$E$5:$E$125<>"")+('Calendrier hiver'!$F$5:$F$125<>"")+('Calendrier hiver'!$G$5:$G$125<>""))>0)) -> 8
A6: Février | B6: 46419 | C6: 46446 | D6: =COUNTIFS('Calendrier hiver'!$B$5:$B$125,">="&B6,'Calendrier hiver'!$B$5:$B$125,"<="&C6,'Calendrier hiver'!$C$5:$C$125,"SSS") -> 8 | E6: =COUNTIFS('Calendrier hiver'!$B$5:$B$125,">="&B6,'Calendrier hiver'!$B$5:$B$125,"<="&C6,'Calendrier hiver'!$C$5:$C$125,"Compet") -> 4 | F6: =COUNTIFS('Calendrier hiver'!$B$5:$B$125,">="&B6,'Calendrier hiver'!$B$5:$B$125,"<="&C6,'Calendrier hiver'!$C$5:$C$125,"Loisir + Compet") -> 4 | G6: =COUNTIFS('Calendrier hiver'!$B$5:$B$125,">="&B6,'Calendrier hiver'!$B$5:$B$125,"<="&C6,'Calendrier hiver'!$D$5:$D$125,"<>") -> 1 | H6: =SUM(D6:G6) -> 17 | I6: =SUMPRODUCT(('Calendrier hiver'!$B$5:$B$125>=B6)*('Calendrier hiver'!$B$5:$B$125<=C6)*((('Calendrier hiver'!$E$5:$E$125<>"")+('Calendrier hiver'!$F$5:$F$125<>"")+('Calendrier hiver'!$G$5:$G$125<>""))>0)) -> 9
A7: Mars | B7: 46447 | C7: 46477 | D7: =COUNTIFS('Calendrier hiver'!$B$5:$B$125,">="&B7,'Calendrier hiver'!$B$5:$B$125,"<="&C7,'Calendrier hiver'!$C$5:$C$125,"SSS") -> 9 | E7: =COUNTIFS('Calendrier hiver'!$B$5:$B$125,">="&B7,'Calendrier hiver'!$B$5:$B$125,"<="&C7,'Calendrier hiver'!$C$5:$C$125,"Compet") -> 5 | F7: =COUNTIFS('Calendrier hiver'!$B$5:$B$125,">="&B7,'Calendrier hiver'!$B$5:$B$125,"<="&C7,'Calendrier hiver'!$C$5:$C$125,"Loisir + Compet") -> 4 | G7: =COUNTIFS('Calendrier hiver'!$B$5:$B$125,">="&B7,'Calendrier hiver'!$B$5:$B$125,"<="&C7,'Calendrier hiver'!$D$5:$D$125,"<>") -> 0 | H7: =SUM(D7:G7) -> 18 | I7: =SUMPRODUCT(('Calendrier hiver'!$B$5:$B$125>=B7)*('Calendrier hiver'!$B$5:$B$125<=C7)*((('Calendrier hiver'!$E$5:$E$125<>"")+('Calendrier hiver'!$F$5:$F$125<>"")+('Calendrier hiver'!$G$5:$G$125<>""))>0)) -> 8
A8: Total | D8: =SUM(D4:D7) -> 35 | E8: =SUM(E4:E7) -> 18 | F8: =SUM(F4:F7) -> 17 | G8: =SUM(G4:G7) -> 6 | H8: =SUM(H4:H7) -> 76 | I8: =SUM(I4:I7) -> 33
A10: Les compteurs se mettent à jour automatiquement si tu modifies l'onglet Calendrier.
