Workbook

Sheet Calendrier hiver
A1: Calendrier hiver 2026-2027 — Entraînements club, SSS et courses Dauphiné
A2: Courses : d'après le PDF « CALENDRIER Dauphiné 26-27 » (version du 05/10/2026). Entraînements : SSS mar. + jeu. après-midi ; Compet mer. après-midi ; Loisir + Compet sam. matin. Colonne « Entraînement adulte » à compléter. Jour et date grisés = vacances scolaires. Les « ? » sont repris tels quels du calendrier.
A4: Jour | B4: Date | C4: Entraînement | D4: Entraînement adulte | E4: Régional | F4: National FOND | G4: National Biathlon | H4: Remarques
A5: Mardi | B5: 46357 | C5: SSS
A6: Mercredi | B6: 46358 | C6: Compet
A7: Jeudi | B7: 46359 | C7: SSS
A8: Vendredi | B8: 46360
A9: Samedi | B9: 46361 | C9: Loisir + Compet | G9: SNT 1 Bessans
A10: Dimanche | B10: 46362 | E10: CD CL Indiv. Alpe d'Huez U15+ (SNO) | G10: SNT 1 Bessans
A11: Lundi | B11: 46363
A12: Mardi | B12: 46364 | C12: SSS
A13: Mercredi | B13: 46365 | C13: Compet
A14: Jeudi | B14: 46366 | C14: SSS
A15: Vendredi | B15: 46367
A16: Samedi | B16: 46368 | C16: Loisir + Compet | F16: SNT 2 Autrans
A17: Dimanche | B17: 46369 | F17: SNT 2 Autrans
A18: Lundi | B18: 46370
A19: Mardi | B19: 46371 | C19: SSS
A20: Mercredi | B20: 46372 | C20: Compet
A21: Jeudi | B21: 46373 | C21: SSS
A22: Vendredi | B22: 46374
A23: Samedi | B23: 46375 | C23: Loisir + Compet | D23: 14h-16h | G23: SNT 2 Les Tuffes
A24: Dimanche | B24: 46376 | E24: CD Fond SK Méaudre – Team Sprint U11/13/16+, U15 (KO montée/descente, qualif 3 tours) | G24: SNT 2 Les Tuffes
A25: Lundi | B25: 46377
A26: Mardi | B26: 46378 | C26: SSS
A27: Mercredi | B27: 46379 | C27: Compet
A28: Jeudi | B28: 46380 | C28: SSS
A29: Vendredi | B29: 46381
A30: Samedi | B30: 46382 | C30: Loisir + Compet
A31: Dimanche | B31: 46383
A32: Lundi | B32: 46384
A33: Mardi | B33: 46385 | C33: SSS | F33: SNT 3 Les Glières
A34: Mercredi | B34: 46386 | C34: Compet | F34: SNT 3 Les Glières
A35: Jeudi | B35: 46387 | C35: SSS
A36: Vendredi | B36: 46388
A37: Samedi | B37: 46389 | C37: Loisir + Compet
A38: Dimanche | B38: 46390 | E38: CD Biathlon 1 Relais U9-U13 / U15-U17+ 22LR (VSF)
A39: Lundi | B39: 46391
A40: Mardi | B40: 46392 | C40: SSS
A41: Mercredi | B41: 46393 | C41: Compet
...

Sheet Récap
A1: Récapitulatif par mois
A3: Mois | B3: Début | C3: Fin | D3: SSS | E3: Compet | F3: Loisir + Compet | G3: Adulte | H3: Total séances | I3: Jours avec course
A4: Décembre | B4: 46357 | C4: 46387 | D4: =COUNTIFS('Calendrier hiver'!$B$5:$B$125,">="&B4,'Calendrier hiver'!$B$5:$B$125,"<="&C4,'Calendrier hiver'!$C$5:$C$125,"SSS") -> 10 | E4: =COUNTIFS('Calendrier hiver'!$B$5:$B$125,">="&B4,'Calendrier hiver'!$B$5:$B$125,"<="&C4,'Calendrier hiver'!$C$5:$C$125,"Compet") -> 5 | F4: =COUNTIFS('Calendrier hiver'!$B$5:$B$125,">="&B4,'Calendrier hiver'!$B$5:$B$125,"<="&C4,'Calendrier hiver'!$C$5:$C$125,"Loisir + Compet") -> 4 | G4: =COUNTIFS('Calendrier hiver'!$B$5:$B$125,">="&B4,'Calendrier hiver'!$B$5:$B$125,"<="&C4,'Calendrier hiver'!$D$5:$D$125,"<>") -> 1 | H4: =SUM(D4:G4) -> 20 | I4: =SUMPRODUCT(('Calendrier hiver'!$B$5:$B$125>=B4)*('Calendrier hiver'!$B$5:$B$125<=C4)*((('Calendrier hiver'!$E$5:$E$125<>"")+('Calendrier hiver'!$F$5:$F$125<>"")+('Calendrier hiver'!$G$5:$G$125<>""))>0)) -> 8
A5: Janvier | B5: 46388 | C5: 46418 | D5: =COUNTIFS('Calendrier hiver'!$B$5:$B$125,">="&B5,'Calendrier hiver'!$B$5:$B$125,"<="&C5,'Calendrier hiver'!$C$5:$C$125,"SSS") -> 8 | E5: =COUNTIFS('Calendrier hiver'!$B$5:$B$125,">="&B5,'Calendrier hiver'!$B$5:$B$125,"<="&C5,'Calendrier hiver'!$C$5:$C$125,"Compet") -> 4 | F5: =COUNTIFS('Calendrier hiver'!$B$5:$B$125,">="&B5,'Calendrier hiver'!$B$5:$B$125,"<="&C5,'Calendrier hiver'!$C$5:$C$125,"Loisir + Compet") -> 5 | G5: =COUNTIFS('Calendrier hiver'!$B$5:$B$125,">="&B5,'Calendrier hiver'!$B$5:$B$125,"<="&C5,'Calendrier hiver'!$D$5:$D$125,"<>") -> 4 | H5: =SUM(D5:G5) -> 21 | I5: =SUMPRODUCT(('Calendrier hiver'!$B$5:$B$125>=B5)*('Calendrier hiver'!$B$5:$B$125<=C5)*((('Calendrier hiver'!$E$5:$E$125<>"")+('Calendrier hiver'!$F$5:$F$125<>"")+('Calendrier hiver'!$G$5:$G$125<>""))>0)) -> 8
A6: Février | B6: 46419 | C6: 46446 | D6: =COUNTIFS('Calendrier hiver'!$B$5:$B$125,">="&B6,'Calendrier hiver'!$B$5:$B$125,"<="&C6,'Calendrier hiver'!$C$5:$C$125,"SSS") -> 8 | E6: =COUNTIFS('Calendrier hiver'!$B$5:$B$125,">="&B6,'Calendrier hiver'!$B$5:$B$125,"<="&C6,'Calendrier hiver'!$C$5:$C$125,"Compet") -> 4 | F6: =COUNTIFS('Calendrier hiver'!$B$5:$B$125,">="&B6,'Calendrier hiver'!$B$5:$B$125,"<="&C6,'Calendrier hiver'!$C$5:$C$125,"Loisir + Compet") -> 4 | G6: =COUNTIFS('Calendrier hiver'!$B$5:$B$125,">="&B6,'Calendrier hiver'!$B$5:$B$125,"<="&C6,'Calendrier hiver'!$D$5:$D$125,"<>") -> 1 | H6: =SUM(D6:G6) -> 17 | I6: =SUMPRODUCT(('Calendrier hiver'!$B$5:$B$125>=B6)*('Calendrier hiver'!$B$5:$B$125<=C6)*((('Calendrier hiver'!$E$5:$E$125<>"")+('Calendrier hiver'!$F$5:$F$125<>"")+('Calendrier hiver'!$G$5:$G$125<>""))>0)) -> 9
A7: Mars | B7: 46447 | C7: 46477 | D7: =COUNTIFS('Calendrier hiver'!$B$5:$B$125,">="&B7,'Calendrier hiver'!$B$5:$B$125,"<="&C7,'Calendrier hiver'!$C$5:$C$125,"SSS") -> 9 | E7: =COUNTIFS('Calendrier hiver'!$B$5:$B$125,">="&B7,'Calendrier hiver'!$B$5:$B$125,"<="&C7,'Calendrier hiver'!$C$5:$C$125,"Compet") -> 5 | F7: =COUNTIFS('Calendrier hiver'!$B$5:$B$125,">="&B7,'Calendrier hiver'!$B$5:$B$125,"<="&C7,'Calendrier hiver'!$C$5:$C$125,"Loisir + Compet") -> 4 | G7: =COUNTIFS('Calendrier hiver'!$B$5:$B$125,">="&B7,'Calendrier hiver'!$B$5:$B$125,"<="&C7,'Calendrier hiver'!$D$5:$D$125,"<>") -> 0 | H7: =SUM(D7:G7) -> 18 | I7: =SUMPRODUCT(('Calendrier hiver'!$B$5:$B$125>=B7)*('Calendrier hiver'!$B$5:$B$125<=C7)*((('Calendrier hiver'!$E$5:$E$125<>"")+('Calendrier hiver'!$F$5:$F$125<>"")+('Calendrier hiver'!$G$5:$G$125<>""))>0)) -> 8
A8: Total | D8: =SUM(D4:D7) -> 35 | E8: =SUM(E4:E7) -> 18 | F8: =SUM(F4:F7) -> 17 | G8: =SUM(G4:G7) -> 6 | H8: =SUM(H4:H7) -> 76 | I8: =SUM(I4:I7) -> 33
A10: Les compteurs se mettent à jour automatiquement si tu modifies l'onglet Calendrier.
